BEGIN:VCALENDAR
VERSION:2.0
PRODID:-//Plone.org//NONSGML plone.app.event//EN
X-WR-TIMEZONE:Europe/Madrid
BEGIN:VEVENT
SUMMARY:Animació infantil amb Jaume Barri
DTSTART;TZID=Europe/Madrid;VALUE=DATE-TIME:20220423T110000
DTEND;TZID=Europe/Madrid;VALUE=DATE-TIME:20220423T120000
DTSTAMP;VALUE=DATE-TIME:20260421T200806Z
UID:89152266c50be03b6b0f38ea5d3ea455
CREATED;VALUE=DATE-TIME:20220423T000000Z
CATEGORIES:Infantils
LOCATION:Plaça de la Biblioteca. ATENCIÓ TRASLLAT AL TEATRE ATENEU - Plaça de la Biblioteca
ORGANIZER:La Troupe
DESCRIPTION:Festivalisme
URL:https://www.santceloni.cat/document.php?id=28298
END:VEVENT
END:VCALENDAR