BEGIN:VCALENDAR
VERSION:2.0
PRODID:-//Plone.org//NONSGML plone.app.event//EN
X-WR-TIMEZONE:Europe/Madrid
BEGIN:VEVENT
SUMMARY:Concert homenatge a Joan Tomàs i a l'Obra del Cançoner Popular de Catalunya
DTSTART;TZID=Europe/Madrid;VALUE=DATE-TIME:20220702T190000
DTEND;TZID=Europe/Madrid;VALUE=DATE-TIME:20220702T200000
DTSTAMP;VALUE=DATE-TIME:20260424T210908Z
UID:28d7b323fb83f0f763fdad8d96986ac8
CREATED;VALUE=DATE-TIME:20220702T000000Z
CATEGORIES:Música
LOCATION:Masia Mariona (Mosqueroles)
ORGANIZER:Coral Briançó
COMMENT:Preu: Gratuït
Durada: 60 min.
DESCRIPTION:Coral Briançó
URL:https://www.santceloni.cat/document.php?id=28545
END:VEVENT
END:VCALENDAR