BEGIN:VCALENDAR
VERSION:2.0
PRODID:-//Plone.org//NONSGML plone.app.event//EN
X-WR-TIMEZONE:Europe/Madrid
BEGIN:VEVENT
SUMMARY:12è Trial 4x4 la Batllòria
DTSTART;TZID=Europe/Madrid;VALUE=DATE-TIME:20220820T090000
DTEND;TZID=Europe/Madrid;VALUE=DATE-TIME:20220820T100000
DTSTAMP;VALUE=DATE-TIME:20260424T124027Z
UID:f689458dc316f1dbdd2b46e4416dcc55
CREATED;VALUE=DATE-TIME:20220820T000000Z
CATEGORIES:Esports
LOCATION:Carrer del Camí Ral, al costat del Camp de Futbol
ORGANIZER:La Batllòria Extrem 4x4
COMMENT:Durada: Tot el dia
DESCRIPTION:Festa Major d'Estiu de la Batllòria
URL:https://www.santceloni.cat/document.php?id=28792
END:VEVENT
END:VCALENDAR