BEGIN:VCALENDAR
VERSION:2.0
PRODID:-//Plone.org//NONSGML plone.app.event//EN
X-WR-TIMEZONE:Europe/Madrid
BEGIN:VEVENT
SUMMARY:Festa Major d'estiu de la Batllòria
DTSTART;TZID=Europe/Madrid;VALUE=DATE-TIME:20220827T170000
DTEND;TZID=Europe/Madrid;VALUE=DATE-TIME:20220827T180000
DTSTAMP;VALUE=DATE-TIME:20260422T132514Z
UID:b6e9ebeccf318605a244a262166db9a5
CREATED;VALUE=DATE-TIME:20220827T000000Z
CATEGORIES:Dansa,Festa,Infantils,Música,Teatre
COMMENT:Durada: Tot el dia
URL:https://www.santceloni.cat/document.php?id=28845
END:VEVENT
END:VCALENDAR