BEGIN:VCALENDAR
VERSION:2.0
PRODID:-//Plone.org//NONSGML plone.app.event//EN
X-WR-TIMEZONE:Europe/Madrid
BEGIN:VEVENT
SUMMARY:Passejada per la ruta del silenci
DTSTART;TZID=Europe/Madrid;VALUE=DATE-TIME:20220909T190000
DTEND;TZID=Europe/Madrid;VALUE=DATE-TIME:20220909T200000
DTSTAMP;VALUE=DATE-TIME:20260421T111400Z
UID:10ca1c1f754448fa7b296525366adf3e
CREATED;VALUE=DATE-TIME:20220909T000000Z
CATEGORIES:Natura
LOCATION:Jardins Rectoria Vella (punt de trobada) - Parc de la Rectoria Vella, s/n
ORGANIZER:Grup Feminisme Junts Sant Celoni i La Batllòria
COMMENT:Durada: 90 min.
URL:https://www.santceloni.cat/document.php?id=28954
END:VEVENT
END:VCALENDAR