BEGIN:VCALENDAR
VERSION:2.0
PRODID:-//Plone.org//NONSGML plone.app.event//EN
X-WR-TIMEZONE:Europe/Madrid
BEGIN:VEVENT
SUMMARY:Hora del conte: Irene la valenta amb Marta Esmarats
DTSTART;TZID=Europe/Madrid;VALUE=DATE-TIME:20221015T113000
DTEND;TZID=Europe/Madrid;VALUE=DATE-TIME:20221015T123000
DTSTAMP;VALUE=DATE-TIME:20260423T194210Z
UID:82b66d7685f771f7c1460b70cad5ab7a
CREATED;VALUE=DATE-TIME:20221015T000000Z
CATEGORIES:Infantils
LOCATION:Biblioteca l'Escorxador - Pg. de la Rectoria Vella, 10
ORGANIZER:Biblioteca l'Escorxador
DESCRIPTION:Activitat familiar. Sense inscripció
URL:https://www.santceloni.cat/document.php?id=29034
END:VEVENT
END:VCALENDAR