BEGIN:VCALENDAR
VERSION:2.0
PRODID:-//Plone.org//NONSGML plone.app.event//EN
X-WR-TIMEZONE:Europe/Madrid
BEGIN:VEVENT
SUMMARY:Tarda de dansa
DTSTART;TZID=Europe/Madrid;VALUE=DATE-TIME:20221022T180000
DTEND;TZID=Europe/Madrid;VALUE=DATE-TIME:20221022T190000
DTSTAMP;VALUE=DATE-TIME:20260424T140318Z
UID:9ddbafc3ff3ea301eaceab4274d060cc
CREATED;VALUE=DATE-TIME:20221022T000000Z
CATEGORIES:Dansa
LOCATION:Teatre Ateneu, Sala Gran - Germà Emilià, s/n
ORGANIZER:aecc Sant Celoni
DESCRIPTION:Actes pel Dia Internacional contra el Càncer de Mama
URL:https://www.santceloni.cat/document.php?id=29038
END:VEVENT
END:VCALENDAR