BEGIN:VCALENDAR
VERSION:2.0
PRODID:-//Plone.org//NONSGML plone.app.event//EN
X-WR-TIMEZONE:Europe/Madrid
BEGIN:VEVENT
SUMMARY:2n Mercat Musical de Sant Celoni
DTSTART;TZID=Europe/Madrid;VALUE=DATE-TIME:20221001T000000
DTEND;TZID=Europe/Madrid;VALUE=DATE-TIME:20221001T010000
DTSTAMP;VALUE=DATE-TIME:20260419T175218Z
UID:85455a0d1ca27ce0d4dbbfef272a3730
CREATED;VALUE=DATE-TIME:20221001T000000Z
CATEGORIES:Dansa,Festa,Música
LOCATION:Pista poliesportiva St. Ponç - Bruc, s/n
ORGANIZER:Col·lectiu Arpegi
COMMENT:Preu: Gratuït
Durada: 10h fins les 23 h
DESCRIPTION:Concerts, parades musicals, tallers, espai gastronòmic i vermut dj
URL:https://www.santceloni.cat/document.php?id=29051
END:VEVENT
END:VCALENDAR