BEGIN:VCALENDAR
VERSION:2.0
PRODID:-//Plone.org//NONSGML plone.app.event//EN
X-WR-TIMEZONE:Europe/Madrid
BEGIN:VEVENT
SUMMARY:La Filmo: Tasio, de Montxo Armendáriz
DTSTART;TZID=Europe/Madrid;VALUE=DATE-TIME:20221023T180000
DTEND;TZID=Europe/Madrid;VALUE=DATE-TIME:20221023T190000
DTSTAMP;VALUE=DATE-TIME:20260424T135324Z
UID:292ab2ad393bf70e3258d88e03a6ec0b
CREATED;VALUE=DATE-TIME:20221023T000000Z
CATEGORIES:Cinema
LOCATION:Can Ramis, Sala Bernat Martorell - Pl. de la Vila, 25
ORGANIZER:LaFilmo del Baix Montseny AC
COMMENT:Preu: Entrada lliure
Durada: 2h
DESCRIPTION:La Filmo amb la Setmana del Bosc
URL:https://www.santceloni.cat/document.php?id=29092
END:VEVENT
END:VCALENDAR