BEGIN:VCALENDAR
VERSION:2.0
PRODID:-//Plone.org//NONSGML plone.app.event//EN
X-WR-TIMEZONE:Europe/Madrid
BEGIN:VEVENT
SUMMARY:Taller de creació artística al bosc
DTSTART;TZID=Europe/Madrid;VALUE=DATE-TIME:20221105T110000
DTEND;TZID=Europe/Madrid;VALUE=DATE-TIME:20221105T120000
DTSTAMP;VALUE=DATE-TIME:20260420T215505Z
UID:216bb515b98cc0adbe53218a95171f52
CREATED;VALUE=DATE-TIME:20221105T000000Z
LOCATION:Parc de la Rectoria Vella - Parc de la Rectoria Vella
DESCRIPTION:Setmana del Bosc 2022
URL:https://www.santceloni.cat/document.php?id=29138
END:VEVENT
END:VCALENDAR