BEGIN:VCALENDAR
VERSION:2.0
PRODID:-//Plone.org//NONSGML plone.app.event//EN
X-WR-TIMEZONE:Europe/Madrid
BEGIN:VEVENT
SUMMARY:Matinals 100 cims dels dimarts amb el CESC
DTSTART;TZID=Europe/Madrid;VALUE=DATE-TIME:20221115T000000
DTEND;TZID=Europe/Madrid;VALUE=DATE-TIME:20221115T010000
DTSTAMP;VALUE=DATE-TIME:20260421T184434Z
UID:850764f753bd833fb2a5f972ebe93622
CREATED;VALUE=DATE-TIME:20221115T000000Z
CATEGORIES:Esports,Natura
LOCATION:Benzinera Repsol a l'entrada de Sant Celoni
ORGANIZER:Centre Excursionista Sant Celoni (CESC)
COMMENT:Durada: Matí. Tornada al voltant de les 14 h.
URL:https://www.santceloni.cat/document.php?id=29220
END:VEVENT
END:VCALENDAR