BEGIN:VCALENDAR
VERSION:2.0
PRODID:-//Plone.org//NONSGML plone.app.event//EN
X-WR-TIMEZONE:Europe/Madrid
BEGIN:VEVENT
SUMMARY:Matinals del dissabte amb el CESC
DTSTART;TZID=Europe/Madrid;VALUE=DATE-TIME:20221126T080000
DTEND;TZID=Europe/Madrid;VALUE=DATE-TIME:20221126T090000
DTSTAMP;VALUE=DATE-TIME:20260422T052042Z
UID:d1b78e3fb6c214d7defcca83dd873510
CREATED;VALUE=DATE-TIME:20221126T000000Z
CATEGORIES:Esports,Natura
LOCATION:Aparcament Verge del Puig
ORGANIZER:Centre Excursionista Sant Celoni
COMMENT:Durada: Matí
DESCRIPTION:Caminades matinals pel Montseny o Montnegre-Corredor
URL:https://www.santceloni.cat/document.php?id=29225
END:VEVENT
END:VCALENDAR