BEGIN:VCALENDAR
VERSION:2.0
PRODID:-//Plone.org//NONSGML plone.app.event//EN
X-WR-TIMEZONE:Europe/Madrid
BEGIN:VEVENT
SUMMARY:Cavalcada dels Reis d'Orient a Sant Celoni
DTSTART;TZID=Europe/Madrid;VALUE=DATE-TIME:20230105T000000
DTEND;TZID=Europe/Madrid;VALUE=DATE-TIME:20230105T010000
DTSTAMP;VALUE=DATE-TIME:20260425T132629Z
UID:e2e006948b24e846f6fc5fcb1b001333
CREATED;VALUE=DATE-TIME:20230105T000000Z
LOCATION:Sortida de l'avinguda de la Pau
URL:https://www.santceloni.cat/document.php?id=29338
END:VEVENT
END:VCALENDAR