BEGIN:VCALENDAR
VERSION:2.0
PRODID:-//Plone.org//NONSGML plone.app.event//EN
X-WR-TIMEZONE:Europe/Madrid
BEGIN:VEVENT
SUMMARY:GPS Teatre documental: Mivion. Radio Sarajevo. La Conquesta del Pol Sud
DTSTART;TZID=Europe/Madrid;VALUE=DATE-TIME:20230224T200000
DTEND;TZID=Europe/Madrid;VALUE=DATE-TIME:20230224T210000
DTSTAMP;VALUE=DATE-TIME:20260421T134826Z
UID:986cc95437743beef778d7c0c31c0154
CREATED;VALUE=DATE-TIME:20230224T000000Z
CATEGORIES:Teatre
LOCATION:Teatre Ateneu, Sala Gran - Germà Emilià, s/n
COMMENT:Preu: General: 12 &euro; / GPS: 6 &euro; (Consulteu promoció)
Durada: 80 minuts
DESCRIPTION:Programació Teatre Ateneu
URL:https://www.santceloni.cat/document.php?id=29376
END:VEVENT
END:VCALENDAR