BEGIN:VCALENDAR
VERSION:2.0
PRODID:-//Plone.org//NONSGML plone.app.event//EN
X-WR-TIMEZONE:Europe/Madrid
BEGIN:VEVENT
SUMMARY:IV Primavera Coral
DTSTART;TZID=Europe/Madrid;VALUE=DATE-TIME:20230506T190000
DTEND;TZID=Europe/Madrid;VALUE=DATE-TIME:20230506T200000
DTSTAMP;VALUE=DATE-TIME:20260421T120803Z
UID:ab4f91fcfbf788a8d227c5a0fad3fa79
CREATED;VALUE=DATE-TIME:20230506T000000Z
CATEGORIES:Música
LOCATION:Unió Batllorienca - c. Breda, 2
ORGANIZER:Coral Briançó
COMMENT:Preu: Taquilla inversa
Durada: 55 min.
URL:https://www.santceloni.cat/document.php?id=29736
END:VEVENT
END:VCALENDAR