BEGIN:VCALENDAR
VERSION:2.0
PRODID:-//Plone.org//NONSGML plone.app.event//EN
X-WR-TIMEZONE:Europe/Madrid
BEGIN:VEVENT
SUMMARY:Cinema en VO: El pacto de Bille August
DTSTART;TZID=Europe/Madrid;VALUE=DATE-TIME:20230324T200000
DTEND;TZID=Europe/Madrid;VALUE=DATE-TIME:20230324T210000
DTSTAMP;VALUE=DATE-TIME:20260421T163755Z
UID:0f0ed875b365cffcebf38bd9aa01e8b0
CREATED;VALUE=DATE-TIME:20230324T000000Z
CATEGORIES:Cinema
LOCATION:Sales Ocine - Ctra. C-35 (Porta de ponent)
COMMENT:Preu: 4,50 
Durada: 149 min.
URL:https://www.santceloni.cat/document.php?id=29746
END:VEVENT
END:VCALENDAR