BEGIN:VCALENDAR
VERSION:2.0
PRODID:-//Plone.org//NONSGML plone.app.event//EN
X-WR-TIMEZONE:Europe/Madrid
BEGIN:VEVENT
SUMMARY:Ball a l'Ateneu amb David de Vic
DTSTART;TZID=Europe/Madrid;VALUE=DATE-TIME:20230611T180000
DTEND;TZID=Europe/Madrid;VALUE=DATE-TIME:20230611T190000
DTSTAMP;VALUE=DATE-TIME:20260421T133208Z
UID:52133e555ea8a9107af63b105d3fbe8c
CREATED;VALUE=DATE-TIME:20230611T000000Z
CATEGORIES:Festa
LOCATION:Teatre Ateneu, Sala Gran - Germà Emilià, s/n
COMMENT:Preu: Socis: 8 &euro;.
No socis: 10 &euro;
DESCRIPTION:Esplai de la Gent Gran
URL:https://www.santceloni.cat/document.php?id=30144
END:VEVENT
END:VCALENDAR