BEGIN:VCALENDAR
VERSION:2.0
PRODID:-//Plone.org//NONSGML plone.app.event//EN
X-WR-TIMEZONE:Europe/Madrid
BEGIN:VEVENT
SUMMARY:On van les nostres aigües residuals? Visita guiada a la depuradora de Sant Celoni
DTSTART;TZID=Europe/Madrid;VALUE=DATE-TIME:20230610T173000
DTEND;TZID=Europe/Madrid;VALUE=DATE-TIME:20230610T183000
DTSTAMP;VALUE=DATE-TIME:20260421T120552Z
UID:e923ba79ca14c1c99c6c22f7a5262bfb
CREATED;VALUE=DATE-TIME:20230610T000000Z
LOCATION:EDAR (c. Rec del Molí, s/n - Pol. Ind. Molí de les Planes)
COMMENT:Preu: Gratuït
Durada: 2 hores
DESCRIPTION:Setmana de la Natura 2023
URL:https://www.santceloni.cat/document.php?id=30209
END:VEVENT
END:VCALENDAR