BEGIN:VCALENDAR
VERSION:2.0
PRODID:-//Plone.org//NONSGML plone.app.event//EN
X-WR-TIMEZONE:Europe/Madrid
BEGIN:VEVENT
SUMMARY:Taula rodona a Punt 7 Ràdio Sant Celoni Som Natura. Com cuidar-la perquè ens cuidi
DTSTART;TZID=Europe/Madrid;VALUE=DATE-TIME:20230605T220000
DTEND;TZID=Europe/Madrid;VALUE=DATE-TIME:20230605T230000
DTSTAMP;VALUE=DATE-TIME:20260426T000155Z
UID:5e1b14b747eb65216ecd2b16f155a56b
CREATED;VALUE=DATE-TIME:20230605T000000Z
CATEGORIES:Natura
LOCATION:Punt 7 Ràdio Sant Celoni
DESCRIPTION:Dia Mundial del Medi Ambient - Setmana de la Natura
URL:https://www.santceloni.cat/document.php?id=30224
END:VEVENT
END:VCALENDAR