BEGIN:VCALENDAR
VERSION:2.0
PRODID:-//Plone.org//NONSGML plone.app.event//EN
X-WR-TIMEZONE:Europe/Madrid
BEGIN:VEVENT
SUMMARY:Club Súper 3: Supernit
DTSTART;TZID=Europe/Madrid;VALUE=DATE-TIME:20230519T190000
DTEND;TZID=Europe/Madrid;VALUE=DATE-TIME:20230519T200000
DTSTAMP;VALUE=DATE-TIME:20260421T160917Z
UID:fd33f0dd69bec4c0bc057e7c38a2a4b6
CREATED;VALUE=DATE-TIME:20230519T000000Z
LOCATION:Biblioteca l'Escorxador - Pg. de la Rectoria Vella, 10
DESCRIPTION:PLACES EXHAURIDES
URL:https://www.santceloni.cat/document.php?id=30287
END:VEVENT
END:VCALENDAR