BEGIN:VCALENDAR
VERSION:2.0
PRODID:-//Plone.org//NONSGML plone.app.event//EN
X-WR-TIMEZONE:Europe/Madrid
BEGIN:VEVENT
SUMMARY:Vols aprendre a jugar a hoquei?
DTSTART;TZID=Europe/Madrid;VALUE=DATE-TIME:20230415T110000
DTEND;TZID=Europe/Madrid;VALUE=DATE-TIME:20230415T120000
DTSTAMP;VALUE=DATE-TIME:20260422T221459Z
UID:4fb1ba30887e632a82a3d76e5418d6c3
CREATED;VALUE=DATE-TIME:20230415T000000Z
CATEGORIES:Esports
LOCATION:Camp Municipal d'esports - Pg. dels Esports, s/n
ORGANIZER:Club Patí Sant Celoni
COMMENT:Preu: Activitat gratuïta
Durada: Cada dissabte d'11 h a 13 h
DESCRIPTION:Anima't i vine a provar-ho!
URL:https://www.santceloni.cat/document.php?id=30296
END:VEVENT
END:VCALENDAR