BEGIN:VCALENDAR
VERSION:2.0
PRODID:-//Plone.org//NONSGML plone.app.event//EN
X-WR-TIMEZONE:Europe/Madrid
BEGIN:VEVENT
SUMMARY:Competició patinatge promoció
DTSTART;TZID=Europe/Madrid;VALUE=DATE-TIME:20230610T090000
DTEND;TZID=Europe/Madrid;VALUE=DATE-TIME:20230610T100000
DTSTAMP;VALUE=DATE-TIME:20260421T120650Z
UID:93b49784aa17a5a5d9250fde3afdff90
CREATED;VALUE=DATE-TIME:20230610T000000Z
CATEGORIES:Esports
LOCATION:Centre Municipal d'Esports Sot de les Granotes - Francesc Macià, 15
ORGANIZER:Federació Catalana de Patinatge
COMMENT:Preu: Gratuït
Durada: de 9 a 14 i de 16 a 20 h
DESCRIPTION:Open Promoció nivells 1 a 4
URL:https://www.santceloni.cat/document.php?id=30351
END:VEVENT
END:VCALENDAR