BEGIN:VCALENDAR
VERSION:2.0
PRODID:-//Plone.org//NONSGML plone.app.event//EN
X-WR-TIMEZONE:Europe/Madrid
BEGIN:VEVENT
SUMMARY:Cinema en VO: Los jóvenes amantes de Carine Tardieu
DTSTART;TZID=Europe/Madrid;VALUE=DATE-TIME:20230526T200000
DTEND;TZID=Europe/Madrid;VALUE=DATE-TIME:20230526T210000
DTSTAMP;VALUE=DATE-TIME:20260421T120818Z
UID:c3c43723c37df345585633bd9d8bbdba
CREATED;VALUE=DATE-TIME:20230526T000000Z
CATEGORIES:Cinema
LOCATION:Sales Ocine - Ctra. C-35 (Porta de ponent)
COMMENT:Preu: 4,50 
Durada: 108 min.
URL:https://www.santceloni.cat/document.php?id=30415
END:VEVENT
END:VCALENDAR