BEGIN:VCALENDAR
VERSION:2.0
PRODID:-//Plone.org//NONSGML plone.app.event//EN
X-WR-TIMEZONE:Europe/Madrid
BEGIN:VEVENT
SUMMARY:Cançons amoroses, eròtiques i cortesanes del Renaixement amb la Coral Briançó
DTSTART;TZID=Europe/Madrid;VALUE=DATE-TIME:20230618T200000
DTEND;TZID=Europe/Madrid;VALUE=DATE-TIME:20230618T210000
DTSTAMP;VALUE=DATE-TIME:20260426T000220Z
UID:0baa8d5d04e6c0ebdd12f1e076d85dc4
CREATED;VALUE=DATE-TIME:20230618T000000Z
CATEGORIES:Música
LOCATION:Teatre Ateneu, Sala Gran - Germà Emilià, s/n
ORGANIZER:Coral Briançó
COMMENT:Preu: Taquilla inversa
Durada: 55 min.
DESCRIPTION:Programació Teatre Ateneu
URL:https://www.santceloni.cat/document.php?id=30529
END:VEVENT
END:VCALENDAR