BEGIN:VCALENDAR
VERSION:2.0
PRODID:-//Plone.org//NONSGML plone.app.event//EN
X-WR-TIMEZONE:Europe/Madrid
BEGIN:VEVENT
SUMMARY:Visita comentada a l'exposició de Miquel Deulofeu Fantasies Reals
DTSTART;TZID=Europe/Madrid;VALUE=DATE-TIME:20230618T180000
DTEND;TZID=Europe/Madrid;VALUE=DATE-TIME:20230618T190000
DTSTAMP;VALUE=DATE-TIME:20260426T012001Z
UID:2ca2bef8def00da07309d92a012d3742
CREATED;VALUE=DATE-TIME:20230618T000000Z
LOCATION:Rectoria Vella - Parc de la Rectoria Vella, s/n
URL:https://www.santceloni.cat/document.php?id=30533
END:VEVENT
END:VCALENDAR