BEGIN:VCALENDAR
VERSION:2.0
PRODID:-//Plone.org//NONSGML plone.app.event//EN
X-WR-TIMEZONE:Europe/Madrid
BEGIN:VEVENT
SUMMARY:Activitats del CESC - 100 CIMS: Torxes i Falles del Pallars
DTSTART;TZID=Europe/Madrid;VALUE=DATE-TIME:20230625T000000
DTEND;TZID=Europe/Madrid;VALUE=DATE-TIME:20230625T010000
DTSTAMP;VALUE=DATE-TIME:20260421T120625Z
UID:128cb6078e30b489f25fab85f2c2cdd9
CREATED;VALUE=DATE-TIME:20230623T000000Z
CATEGORIES:Esports,Natura
LOCATION:A determinar
ORGANIZER:Centre Excursionista Sant Celoni
URL:https://www.santceloni.cat/document.php?id=30585
END:VEVENT
END:VCALENDAR