BEGIN:VCALENDAR
VERSION:2.0
PRODID:-//Plone.org//NONSGML plone.app.event//EN
X-WR-TIMEZONE:Europe/Madrid
BEGIN:VEVENT
SUMMARY:Dansa urbana: Sliders, amb Brodas Bros
DTSTART;TZID=Europe/Madrid;VALUE=DATE-TIME:20230713T200000
DTEND;TZID=Europe/Madrid;VALUE=DATE-TIME:20230713T210000
DTSTAMP;VALUE=DATE-TIME:20260426T021327Z
UID:afefbfd406fd0793c8feb8fa3b15539d
CREATED;VALUE=DATE-TIME:20230713T000000Z
CATEGORIES:Dansa
LOCATION:Plaça de la Biblioteca - Plaça de la Biblioteca
DESCRIPTION:Dijous a la fresca
URL:https://www.santceloni.cat/document.php?id=30599
END:VEVENT
END:VCALENDAR