BEGIN:VCALENDAR
VERSION:2.0
PRODID:-//Plone.org//NONSGML plone.app.event//EN
X-WR-TIMEZONE:Europe/Madrid
BEGIN:VEVENT
SUMMARY:Benvinguda a la Flama del Canigó: sardanes, cercavila, manifest, correfoc
DTSTART;TZID=Europe/Madrid;VALUE=DATE-TIME:20230623T000000
DTEND;TZID=Europe/Madrid;VALUE=DATE-TIME:20230623T010000
DTSTAMP;VALUE=DATE-TIME:20260421T120705Z
UID:c299fc64d769110f60ddfed69f3e1bcf
CREATED;VALUE=DATE-TIME:20230623T000000Z
CATEGORIES:Dansa,Festa,Infantils
URL:https://www.santceloni.cat/document.php?id=30606
END:VEVENT
END:VCALENDAR