BEGIN:VCALENDAR
VERSION:2.0
PRODID:-//Plone.org//NONSGML plone.app.event//EN
X-WR-TIMEZONE:Europe/Madrid
BEGIN:VEVENT
SUMMARY:Sansa Roots - Nit de Sound System
DTSTART;TZID=Europe/Madrid;VALUE=DATE-TIME:20230623T180000
DTEND;TZID=Europe/Madrid;VALUE=DATE-TIME:20230623T190000
DTSTAMP;VALUE=DATE-TIME:20260421T090913Z
UID:0a01bc4fb054cea0f903e3c6536a2a08
CREATED;VALUE=DATE-TIME:20230623T000000Z
CATEGORIES:Festa
LOCATION:Skate Park
ORGANIZER:Cultural Rastafari
COMMENT:Durada: Fins l'1 de la nmatinada
URL:https://www.santceloni.cat/document.php?id=30612
END:VEVENT
END:VCALENDAR