BEGIN:VCALENDAR
VERSION:2.0
PRODID:-//Plone.org//NONSGML plone.app.event//EN
X-WR-TIMEZONE:Europe/Madrid
BEGIN:VEVENT
SUMMARY:Inauguració de l'exposició i lliurament de premis del concurs Enigmàtic
DTSTART;TZID=Europe/Madrid;VALUE=DATE-TIME:20230621T160000
DTEND;TZID=Europe/Madrid;VALUE=DATE-TIME:20230621T170000
DTSTAMP;VALUE=DATE-TIME:20260426T022138Z
UID:072384f23b96561ce9f2c12882c06343
CREATED;VALUE=DATE-TIME:20230621T000000Z
LOCATION:Biblioteca l'Escorxador - Pg. de la Rectoria Vella, 10
ORGANIZER:CPNL i ômnium Cultural
URL:https://www.santceloni.cat/document.php?id=30615
END:VEVENT
END:VCALENDAR