BEGIN:VCALENDAR
VERSION:2.0
PRODID:-//Plone.org//NONSGML plone.app.event//EN
X-WR-TIMEZONE:Europe/Madrid
BEGIN:VEVENT
SUMMARY:Sessió informativa: Gestió de la diversitat a l'empresa
DTSTART;TZID=Europe/Madrid;VALUE=DATE-TIME:20230623T100000
DTEND;TZID=Europe/Madrid;VALUE=DATE-TIME:20230623T110000
DTSTAMP;VALUE=DATE-TIME:20260421T105021Z
UID:6392d119ab630da45bd31a0e2fd5a0e2
CREATED;VALUE=DATE-TIME:20230623T000000Z
LOCATION:Sax Sala - Montserrat, 28
ORGANIZER:Fundació ECAS, Fundació Reir, Pimec i Fundació Acció Baix Montseny, en col·laboració amb l´Ajuntament de Sant Celoni
COMMENT:Preu: Gratuït
Durada: 1 hora
URL:https://www.santceloni.cat/document.php?id=30671
END:VEVENT
END:VCALENDAR