BEGIN:VCALENDAR
VERSION:2.0
PRODID:-//Plone.org//NONSGML plone.app.event//EN
X-WR-TIMEZONE:Europe/Madrid
BEGIN:VEVENT
SUMMARY:Sopars musicals al carrer Major de Dalt
DTSTART;TZID=Europe/Madrid;VALUE=DATE-TIME:20230721T210000
DTEND;TZID=Europe/Madrid;VALUE=DATE-TIME:20230721T220000
DTSTAMP;VALUE=DATE-TIME:20260426T021032Z
UID:54b1921b0c9899c4d60fe60add3a6bdd
CREATED;VALUE=DATE-TIME:20230721T000000Z
CATEGORIES:Festa,Música
LOCATION:Carrer Major de Dalt - Barri Vilanova - Carrer Major de Dalt - Barri Vilanova
ORGANIZER:AV carrer Major de Dalt
URL:https://www.santceloni.cat/document.php?id=30690
END:VEVENT
END:VCALENDAR