BEGIN:VCALENDAR
VERSION:2.0
PRODID:-//Plone.org//NONSGML plone.app.event//EN
X-WR-TIMEZONE:Europe/Madrid
BEGIN:VEVENT
SUMMARY:Dansa: Tradere, amb Laia Santanach
DTSTART;TZID=Europe/Madrid;VALUE=DATE-TIME:20231119T180000
DTEND;TZID=Europe/Madrid;VALUE=DATE-TIME:20231119T190000
DTSTAMP;VALUE=DATE-TIME:20260420T221621Z
UID:cd54bcf0b46ca01ea019e62f80ffcbee
CREATED;VALUE=DATE-TIME:20231119T000000Z
LOCATION:Teatre Ateneu, Sala Gran - Germà Emilià, s/n
COMMENT:Preu: 8 
Durada: 120 min.
DESCRIPTION:Programació Teatre Ateneu
URL:https://www.santceloni.cat/document.php?id=30996
END:VEVENT
END:VCALENDAR