BEGIN:VCALENDAR
VERSION:2.0
PRODID:-//Plone.org//NONSGML plone.app.event//EN
X-WR-TIMEZONE:Europe/Madrid
BEGIN:VEVENT
SUMMARY:Mostra de Dansa de Nadal
DTSTART;TZID=Europe/Madrid;VALUE=DATE-TIME:20231216T000000
DTEND;TZID=Europe/Madrid;VALUE=DATE-TIME:20231216T010000
DTSTAMP;VALUE=DATE-TIME:20260420T152451Z
UID:1efc92de9e2e0edbb05333c1ed61c6ef
CREATED;VALUE=DATE-TIME:20231216T000000Z
LOCATION:Sala Gran del Teatre Ateneu
ORGANIZER:Escola de dansa Contrajazz
COMMENT:Preu: 8 &euro; a benefici de la Marató de TV3
DESCRIPTION:Programació Teatre Ateneu
URL:https://www.santceloni.cat/document.php?id=31012
END:VEVENT
END:VCALENDAR