BEGIN:VCALENDAR
VERSION:2.0
PRODID:-//Plone.org//NONSGML plone.app.event//EN
X-WR-TIMEZONE:Europe/Madrid
BEGIN:VEVENT
SUMMARY:Activitats del CESC - Muntanya: Travessa Ribes - Campdevànol
DTSTART;TZID=Europe/Madrid;VALUE=DATE-TIME:20231021T074500
DTEND;TZID=Europe/Madrid;VALUE=DATE-TIME:20231021T084500
DTSTAMP;VALUE=DATE-TIME:20260420T224332Z
UID:17666a94c231d9bd134ce68ff073b986
CREATED;VALUE=DATE-TIME:20231021T000000Z
CATEGORIES:Esports,Natura
LOCATION:Estació de RENFE de Campdevànol
ORGANIZER:Centre Excursionista de Sant Celoni
COMMENT:Durada: Tot el dia.
URL:https://www.santceloni.cat/document.php?id=31063
END:VEVENT
END:VCALENDAR