BEGIN:VCALENDAR
VERSION:2.0
PRODID:-//Plone.org//NONSGML plone.app.event//EN
X-WR-TIMEZONE:Europe/Madrid
BEGIN:VEVENT
SUMMARY:Festa de Tardor d'Olzinelles
DTSTART;TZID=Europe/Madrid;VALUE=DATE-TIME:20231104T100000
DTEND;TZID=Europe/Madrid;VALUE=DATE-TIME:20231104T110000
DTSTAMP;VALUE=DATE-TIME:20260426T011320Z
UID:4f16e82966225145d4cbb71911db6754
CREATED;VALUE=DATE-TIME:20231104T000000Z
CATEGORIES:Cinema,Infantils
LOCATION:Font del Pradelló, Ca l'Agustí (Olzinelles)
ORGANIZER:Associació Cultural del Montnegre i Vall d'Olzinelles
COMMENT:Durada: Tot el dia, de 10 a 20 h
URL:https://www.santceloni.cat/document.php?id=31090
END:VEVENT
END:VCALENDAR