BEGIN:VCALENDAR
VERSION:2.0
PRODID:-//Plone.org//NONSGML plone.app.event//EN
X-WR-TIMEZONE:Europe/Madrid
BEGIN:VEVENT
SUMMARY:Xerrades per a famílies: La continuïtat de la formació després d'un PFI, l'EMPA o l'AEP
DTSTART;TZID=Europe/Madrid;VALUE=DATE-TIME:20231025T180000
DTEND;TZID=Europe/Madrid;VALUE=DATE-TIME:20231025T190000
DTSTAMP;VALUE=DATE-TIME:20260420T180847Z
UID:839ed8cb7d3f692ee1f96afebf9801fd
CREATED;VALUE=DATE-TIME:20231025T000000Z
LOCATION:En línia
COMMENT:Durada: 1 hora
URL:https://www.santceloni.cat/document.php?id=31107
END:VEVENT
END:VCALENDAR