BEGIN:VCALENDAR
VERSION:2.0
PRODID:-//Plone.org//NONSGML plone.app.event//EN
X-WR-TIMEZONE:Europe/Madrid
BEGIN:VEVENT
SUMMARY:Xerrada sobre comunitats energètiques al Baix Montseny
DTSTART;TZID=Europe/Madrid;VALUE=DATE-TIME:20231103T180000
DTEND;TZID=Europe/Madrid;VALUE=DATE-TIME:20231103T190000
DTSTAMP;VALUE=DATE-TIME:20260426T023230Z
UID:d6c1e041145aa440c7efafa05243a11e
CREATED;VALUE=DATE-TIME:20231103T000000Z
CATEGORIES:Conferència
LOCATION:Sala Bernat Martorell de Can Ramis - Pl. de la Vila, 25
ORGANIZER:Grup motor de Comunitats Energètiques al Baix Montseny
COMMENT:Preu: Entrada lliure
Durada: 1 hora
DESCRIPTION:Què és una comunitat energètica? En què consisteix, com s'organitzen, serveis que s'hi poden vincular i molt més.
URL:https://www.santceloni.cat/document.php?id=31147
END:VEVENT
END:VCALENDAR