BEGIN:VCALENDAR
VERSION:2.0
PRODID:-//Plone.org//NONSGML plone.app.event//EN
X-WR-TIMEZONE:Europe/Madrid
BEGIN:VEVENT
SUMMARY:Activitats del CESC: 100 CIMS - Ports de Tortosa-Besseit
DTSTART;TZID=Europe/Madrid;VALUE=DATE-TIME:20231125T000000
DTEND;TZID=Europe/Madrid;VALUE=DATE-TIME:20231125T010000
DTSTAMP;VALUE=DATE-TIME:20260421T040837Z
UID:c7a39688b1aa6ea117148a2032d2623c
CREATED;VALUE=DATE-TIME:20231125T000000Z
CATEGORIES:Esports,Natura
LOCATION:A determinar
ORGANIZER:Centre Excursionista de Sant Celoni (CESC)
COMMENT:Durada: Tot el dia
URL:https://www.santceloni.cat/document.php?id=31286
END:VEVENT
END:VCALENDAR