BEGIN:VCALENDAR
VERSION:2.0
PRODID:-//Plone.org//NONSGML plone.app.event//EN
X-WR-TIMEZONE:Europe/Madrid
BEGIN:VEVENT
SUMMARY:Gaudeix amb els Jocs de Taula a la Biblioteca
DTSTART;TZID=Europe/Madrid;VALUE=DATE-TIME:20231227T100000
DTEND;TZID=Europe/Madrid;VALUE=DATE-TIME:20231227T110000
DTSTAMP;VALUE=DATE-TIME:20260420T151003Z
UID:c168d283eea80feed1e5031d22661c87
CREATED;VALUE=DATE-TIME:20231227T000000Z
LOCATION:Biblioteca l'Escorxador - Pg. de la Rectoria Vella, 10
COMMENT:Durada: De 10 a 13.30 i de 15 a 20 h
DESCRIPTION:Nadal i Reis 2023/24
URL:https://www.santceloni.cat/document.php?id=31447
END:VEVENT
END:VCALENDAR