BEGIN:VCALENDAR
VERSION:2.0
PRODID:-//Plone.org//NONSGML plone.app.event//EN
X-WR-TIMEZONE:Europe/Madrid
BEGIN:VEVENT
SUMMARY:Taller de Manualitats Nadalenques
DTSTART;TZID=Europe/Madrid;VALUE=DATE-TIME:20231228T160000
DTEND;TZID=Europe/Madrid;VALUE=DATE-TIME:20231228T170000
DTSTAMP;VALUE=DATE-TIME:20260420T151628Z
UID:0ea6fb1d99a1cb5f03ca989a1939f577
CREATED;VALUE=DATE-TIME:20231228T000000Z
LOCATION:Can Ramis - Pl. de la Vila, 25
COMMENT:Durada: De 16 a 19 h
DESCRIPTION:Nadal i Reis 2023/24
URL:https://www.santceloni.cat/document.php?id=31453
END:VEVENT
END:VCALENDAR