BEGIN:VCALENDAR
VERSION:2.0
PRODID:-//Plone.org//NONSGML plone.app.event//EN
X-WR-TIMEZONE:Europe/Madrid
BEGIN:VEVENT
SUMMARY:Arribada dels Carters Reials a Sant Celoni
DTSTART;TZID=Europe/Madrid;VALUE=DATE-TIME:20240102T163000
DTEND;TZID=Europe/Madrid;VALUE=DATE-TIME:20240102T173000
DTSTAMP;VALUE=DATE-TIME:20260420T150842Z
UID:d1870cf21769f24bd81cb8161c8b4ce3
CREATED;VALUE=DATE-TIME:20240102T000000Z
LOCATION:Plaça de la Vila - Plaça de la Vila
DESCRIPTION:Nadal i Reis 2023/24
URL:https://www.santceloni.cat/document.php?id=31464
END:VEVENT
END:VCALENDAR