BEGIN:VCALENDAR
VERSION:2.0
PRODID:-//Plone.org//NONSGML plone.app.event//EN
X-WR-TIMEZONE:Europe/Madrid
BEGIN:VEVENT
SUMMARY:Dansa: L'escola de dansa Esther Cortés presenta la nova temporada 
DTSTART;TZID=Europe/Madrid;VALUE=DATE-TIME:20240217T183000
DTEND;TZID=Europe/Madrid;VALUE=DATE-TIME:20240217T193000
DTSTAMP;VALUE=DATE-TIME:20260422T005622Z
UID:08a1d9a8c4df7dd6e9301408e3128afb
CREATED;VALUE=DATE-TIME:20240217T000000Z
CATEGORIES:Teatre
LOCATION:Teatre Ateneu, Sala Gran - Germà Emilià, s/n
ORGANIZER:Escola de dansa Esther Cortés
COMMENT:Preu: 8 
Durada: 60 minuts
DESCRIPTION:Programació Teatre Ateneu
URL:https://www.santceloni.cat/document.php?id=31480
END:VEVENT
END:VCALENDAR