BEGIN:VCALENDAR
VERSION:2.0
PRODID:-//Plone.org//NONSGML plone.app.event//EN
X-WR-TIMEZONE:Europe/Madrid
BEGIN:VEVENT
SUMMARY:Teatre: El tinent Inishmore amb Kuòniam Teatre
DTSTART;TZID=Europe/Madrid;VALUE=DATE-TIME:20240413T200000
DTEND;TZID=Europe/Madrid;VALUE=DATE-TIME:20240413T210000
DTSTAMP;VALUE=DATE-TIME:20260422T201250Z
UID:ad83727e162e63e5ed42160cfdd19718
CREATED;VALUE=DATE-TIME:20240413T000000Z
CATEGORIES:Teatre
LOCATION:Teatre Ateneu, Sala Lluís Giró - Germà Emilià, s/n
ORGANIZER:Kuòniam Teatre
COMMENT:Preu: 10 
DESCRIPTION:Programació Teatre Ateneu
URL:https://www.santceloni.cat/document.php?id=31494
END:VEVENT
END:VCALENDAR