BEGIN:VCALENDAR
VERSION:2.0
PRODID:-//Plone.org//NONSGML plone.app.event//EN
X-WR-TIMEZONE:Europe/Madrid
BEGIN:VEVENT
SUMMARY:Teatre: La llum s'apaga amb Trocateatre
DTSTART;TZID=Europe/Madrid;VALUE=DATE-TIME:20240503T210000
DTEND;TZID=Europe/Madrid;VALUE=DATE-TIME:20240503T220000
DTSTAMP;VALUE=DATE-TIME:20260421T042654Z
UID:860c8a9692156de400073b1566688df0
CREATED;VALUE=DATE-TIME:20240503T000000Z
CATEGORIES:Teatre
LOCATION:Teatre Ateneu, Sala Lluís Giró - Germà Emilià, s/n
ORGANIZER:Trocateatre
COMMENT:Preu: 10 
Durada: 55 minuts
DESCRIPTION:Programació Teatre Ateneu
URL:https://www.santceloni.cat/document.php?id=31502
END:VEVENT
END:VCALENDAR