BEGIN:VCALENDAR
VERSION:2.0
PRODID:-//Plone.org//NONSGML plone.app.event//EN
X-WR-TIMEZONE:Europe/Madrid
BEGIN:VEVENT
SUMMARY:Teatre: Descriu la nit amb Trocateatre
DTSTART;TZID=Europe/Madrid;VALUE=DATE-TIME:20240602T180000
DTEND;TZID=Europe/Madrid;VALUE=DATE-TIME:20240602T190000
DTSTAMP;VALUE=DATE-TIME:20260423T041551Z
UID:bba6897c38b4e1840376ec7a19540c22
CREATED;VALUE=DATE-TIME:20240602T000000Z
CATEGORIES:Teatre
LOCATION:Teatre Ateneu, Sala Gran - Germà Emilià, s/n
ORGANIZER:Trocateatre
COMMENT:Preu: 10 
Durada: 180 minuts
DESCRIPTION:Programació Teatre Ateneu
URL:https://www.santceloni.cat/document.php?id=31517
END:VEVENT
END:VCALENDAR