BEGIN:VCALENDAR
VERSION:2.0
PRODID:-//Plone.org//NONSGML plone.app.event//EN
X-WR-TIMEZONE:Europe/Madrid
BEGIN:VEVENT
SUMMARY:Taller: Impremta escolar. Una experiència pedagògica Freinet dels anys 30, a càrrec de Sergi Bernal. PLACES EXHAURIDES
DTSTART;TZID=Europe/Madrid;VALUE=DATE-TIME:20240302T100000
DTEND;TZID=Europe/Madrid;VALUE=DATE-TIME:20240302T110000
DTSTAMP;VALUE=DATE-TIME:20260420T180812Z
UID:c34818074ea7ce528a4a1d710f13f42c
CREATED;VALUE=DATE-TIME:20240302T000000Z
CATEGORIES:Biblioteca Infantils,Biblioteca Taller
LOCATION:Biblioteca l'Escorxador - Pg. de la Rectoria Vella, 10
ORGANIZER:Biblioteca l'Escorxador
COMMENT:Preu: Gratuït
DESCRIPTION:Activitat familiar (+8 anys) i per a adults
URL:https://www.santceloni.cat/document.php?id=31684
END:VEVENT
END:VCALENDAR