BEGIN:VCALENDAR
VERSION:2.0
PRODID:-//Plone.org//NONSGML plone.app.event//EN
X-WR-TIMEZONE:Europe/Madrid
BEGIN:VEVENT
SUMMARY:Cafè en companyia
DTSTART;TZID=Europe/Madrid;VALUE=DATE-TIME:20240223T100000
DTEND;TZID=Europe/Madrid;VALUE=DATE-TIME:20240223T110000
DTSTAMP;VALUE=DATE-TIME:20260422T132819Z
UID:9764a6cab14285835d89ebe429ba7110
CREATED;VALUE=DATE-TIME:20240223T000000Z
CATEGORIES:Gent Gran
LOCATION:Sala Bernat Martorell de Can Ramis - Pl. de la Vila, 25
ORGANIZER:Creu Roja Sant Celoni-Baix Montseny
COMMENT:Durada: Tots els divendres de 10 a 11.30 h
DESCRIPTION:Activitat Reforçant vincles
URL:https://www.santceloni.cat/document.php?id=31692
END:VEVENT
END:VCALENDAR