BEGIN:VCALENDAR
VERSION:2.0
PRODID:-//Plone.org//NONSGML plone.app.event//EN
X-WR-TIMEZONE:Europe/Madrid
BEGIN:VEVENT
SUMMARY:Drets al final de la vida: Document de Voluntats Anticipades
DTSTART;TZID=Europe/Madrid;VALUE=DATE-TIME:20240308T100000
DTEND;TZID=Europe/Madrid;VALUE=DATE-TIME:20240308T110000
DTSTAMP;VALUE=DATE-TIME:20260421T022543Z
UID:82168ee537ac35116f2827e638ccc808
CREATED;VALUE=DATE-TIME:20240308T000000Z
CATEGORIES:Conferència
LOCATION:Sala Bernat Martorell de Can Ramis - Pl. de la Vila, 25
ORGANIZER:Creu Roja i Dret a morir dignament Catalunya
COMMENT:Preu: Gratuït
URL:https://www.santceloni.cat/document.php?id=31711
END:VEVENT
END:VCALENDAR