BEGIN:VCALENDAR
VERSION:2.0
PRODID:-//Plone.org//NONSGML plone.app.event//EN
X-WR-TIMEZONE:Europe/Madrid
BEGIN:VEVENT
SUMMARY:Calçotada del CESC
DTSTART;TZID=Europe/Madrid;VALUE=DATE-TIME:20240225T000000
DTEND;TZID=Europe/Madrid;VALUE=DATE-TIME:20240225T010000
DTSTAMP;VALUE=DATE-TIME:20260422T002019Z
UID:ddfae73f9d686da22841c044ef8d0b80
CREATED;VALUE=DATE-TIME:20240225T000000Z
CATEGORIES:Festa
LOCATION:Local Social La Mariona, Mosqueroles (Fogars de Montclús)
ORGANIZER:Centre Excursionista de Sant Celoni
COMMENT:Preu: Socis 15 euros / No Socis 20 euros / Menors de 10 anys 10 euros
DESCRIPTION:Calçotada - Assemblea general de socis
URL:https://www.santceloni.cat/document.php?id=31747
END:VEVENT
END:VCALENDAR